BEGIN:VCALENDAR
VERSION:2.0
PRODID:-//De Anermolen - ECPv5.10.0//NONSGML v1.0//EN
CALSCALE:GREGORIAN
METHOD:PUBLISH
X-WR-CALNAME:De Anermolen
X-ORIGINAL-URL:https://anermolen.nl
X-WR-CALDESC:Evenementen voor De Anermolen
BEGIN:VTIMEZONE
TZID:Europe/Helsinki
BEGIN:DAYLIGHT
TZOFFSETFROM:+0200
TZOFFSETTO:+0300
TZNAME:EEST
DTSTART:20250330T010000
END:DAYLIGHT
BEGIN:STANDARD
TZOFFSETFROM:+0300
TZOFFSETTO:+0200
TZNAME:EET
DTSTART:20251026T010000
END:STANDARD
END:VTIMEZONE
BEGIN:VEVENT
DTSTART;VALUE=DATE:20250115
DTEND;VALUE=DATE:20250116
DTSTAMP:20260423T195657
CREATED:20260207T100701Z
LAST-MODIFIED:20260207T100801Z
UID:378-1736899200-1736985599@anermolen.nl
SUMMARY:Slipjacht 2025 door de Anermolen
DESCRIPTION:15 januari 2025 was er een slipjacht bij en door de Anermolen. \nVoor ruiters een unieke ervaring!
URL:https://anermolen.nl/evenement/slipjacht-2025-door-de-anermolen/
END:VEVENT
END:VCALENDAR